BEGIN:VCALENDAR
VERSION:2.0
PRODID:-//Apex International - ECPv6.15.20//NONSGML v1.0//EN
CALSCALE:GREGORIAN
METHOD:PUBLISH
X-ORIGINAL-URL:https://www.apexinternational.com
X-WR-CALDESC:Events for Apex International
REFRESH-INTERVAL;VALUE=DURATION:PT1H
X-Robots-Tag:noindex
X-PUBLISHED-TTL:PT1H
BEGIN:VTIMEZONE
TZID:America/New_York
BEGIN:DAYLIGHT
TZOFFSETFROM:-0500
TZOFFSETTO:-0400
TZNAME:EDT
DTSTART:20230312T070000
END:DAYLIGHT
BEGIN:STANDARD
TZOFFSETFROM:-0400
TZOFFSETTO:-0500
TZNAME:EST
DTSTART:20231105T060000
END:STANDARD
BEGIN:DAYLIGHT
TZOFFSETFROM:-0500
TZOFFSETTO:-0400
TZNAME:EDT
DTSTART:20240310T070000
END:DAYLIGHT
BEGIN:STANDARD
TZOFFSETFROM:-0400
TZOFFSETTO:-0500
TZNAME:EST
DTSTART:20241103T060000
END:STANDARD
BEGIN:DAYLIGHT
TZOFFSETFROM:-0500
TZOFFSETTO:-0400
TZNAME:EDT
DTSTART:20250309T070000
END:DAYLIGHT
BEGIN:STANDARD
TZOFFSETFROM:-0400
TZOFFSETTO:-0500
TZNAME:EST
DTSTART:20251102T060000
END:STANDARD
BEGIN:DAYLIGHT
TZOFFSETFROM:-0500
TZOFFSETTO:-0400
TZNAME:EDT
DTSTART:20260308T070000
END:DAYLIGHT
BEGIN:STANDARD
TZOFFSETFROM:-0400
TZOFFSETTO:-0500
TZNAME:EST
DTSTART:20261101T060000
END:STANDARD
END:VTIMEZONE
BEGIN:VEVENT
DTSTART;VALUE=DATE:20251008
DTEND;VALUE=DATE:20251011
DTSTAMP:20260420T212451
CREATED:20250723T135134Z
LAST-MODIFIED:20250723T135217Z
UID:13120-1759881600-1760140799@www.apexinternational.com
SUMMARY:FEFCO Technical Seminar 2025
DESCRIPTION:Bringing together Corrugated packaging producers and partners from the entire supply chain of corrugated production and processing.
URL:https://www.apexinternational.com/event/fefco-technical-seminar-2023-copy/
LOCATION:Rome Convention Centre “La Nuvola”\, Viale Asia\, 40/44\, Roma\, RM\, 00144
ATTACH;FMTTYPE=image/png:https://www.apexinternational.com/wp-content/uploads/2025/07/FEFCO-Technical-Seminar-logo.png
END:VEVENT
BEGIN:VEVENT
DTSTART;TZID=America/New_York:20250921T080000
DTEND;TZID=America/New_York:20250923T170000
DTSTAMP:20260420T212451
CREATED:20250915T184305Z
LAST-MODIFIED:20250915T184305Z
UID:13374-1758441600-1758646800@www.apexinternational.com
SUMMARY:FTA Technical Conference 2025
DESCRIPTION:
URL:https://www.apexinternational.com/event/fta-technical-conference-2025/
LOCATION:Hyatt Regency Grand Cypress Resort\, 1 Grand Cypress Blvd\, Orlando\, FL\, 32836\, United States
ATTACH;FMTTYPE=image/webp:https://www.apexinternational.com/wp-content/uploads/2025/09/FTC_logo_25_V1.webp
END:VEVENT
BEGIN:VEVENT
DTSTART;TZID=America/New_York:20250916T080000
DTEND;TZID=America/New_York:20250919T170000
DTSTAMP:20260420T212451
CREATED:20241024T153101Z
LAST-MODIFIED:20241024T153101Z
UID:12662-1758009600-1758301200@www.apexinternational.com
SUMMARY:Envases Alimentek
DESCRIPTION:
URL:https://www.apexinternational.com/event/envases-alimentek/
LOCATION:Costa Salguero Center\, Avenida Rafael Obligado 1221 C1426COA\, Buenos Aires\, Argentina
ATTACH;FMTTYPE=image/png:https://www.apexinternational.com/wp-content/uploads/2024/10/LOGO-HEADER-ENVASE-2025.png
END:VEVENT
BEGIN:VEVENT
DTSTART;TZID=America/New_York:20250916T080000
DTEND;TZID=America/New_York:20250919T170000
DTSTAMP:20260420T212451
CREATED:20241024T150408Z
LAST-MODIFIED:20250723T134435Z
UID:12628-1758009600-1758301200@www.apexinternational.com
SUMMARY:LabelExpo Europe 2025
DESCRIPTION:
URL:https://www.apexinternational.com/event/labelexpo-europe-2025/
LOCATION:Fira Barcelona Gran Via\, East entrance\, Av. Joan Carles I\, 64 08908\, L’Hospitalet de Llobregat\, Barcelona\, 08908\, Spain
ATTACH;FMTTYPE=image/png:https://www.apexinternational.com/wp-content/uploads/2024/10/Labelexpo_Europe_2025_Horiz_Black.png
END:VEVENT
BEGIN:VEVENT
DTSTART;VALUE=DATE:20250911
DTEND;VALUE=DATE:20250914
DTSTAMP:20260420T212451
CREATED:20250130T143955Z
LAST-MODIFIED:20250130T143955Z
UID:12818-1757548800-1757807999@www.apexinternational.com
SUMMARY:IndiaCorr Expo
DESCRIPTION:
URL:https://www.apexinternational.com/event/indiacorr-expo-3/
LOCATION:India Expo Centre\, Plot No. 25\, 27\,28\,29\, Knowledge Park II\, Greater Noida\, Uttar Pradesh\, 201306\, India
ATTACH;FMTTYPE=image/jpeg:https://www.apexinternational.com/wp-content/uploads/2025/01/ICE.jpg
END:VEVENT
BEGIN:VEVENT
DTSTART;VALUE=DATE:20250820
DTEND;VALUE=DATE:20250824
DTSTAMP:20260420T212451
CREATED:20250130T143423Z
LAST-MODIFIED:20250130T143423Z
UID:12811-1755648000-1755993599@www.apexinternational.com
SUMMARY:K-PRINT
DESCRIPTION:
URL:https://www.apexinternational.com/event/k-print/
LOCATION:KINTEX\, 217-59\, Kintex-ro\, Ilsanseo-gu\, Goyang-si\, Gyeonggi-do\, Korea\, Republic of
ATTACH;FMTTYPE=image/png:https://www.apexinternational.com/wp-content/uploads/2025/01/KPrint-logo.png
END:VEVENT
BEGIN:VEVENT
DTSTART;TZID=America/New_York:20250804T080000
DTEND;TZID=America/New_York:20250807T170000
DTSTAMP:20260420T212451
CREATED:20241024T152500Z
LAST-MODIFIED:20241024T152500Z
UID:12655-1754294400-1754586000@www.apexinternational.com
SUMMARY:Fimma Brasil 2025
DESCRIPTION:
URL:https://www.apexinternational.com/event/fimma-brasil-2025/
LOCATION:BENTO GONÇALVES – RS – BRASIL
ATTACH;FMTTYPE=image/png:https://www.apexinternational.com/wp-content/uploads/2024/10/fimma-brasil-logo.png
END:VEVENT
BEGIN:VEVENT
DTSTART;TZID=America/New_York:20250624T080000
DTEND;TZID=America/New_York:20250626T170000
DTSTAMP:20260420T212451
CREATED:20241024T151736Z
LAST-MODIFIED:20241024T151736Z
UID:12648-1750752000-1750957200@www.apexinternational.com
SUMMARY:ACCCSA 2025
DESCRIPTION:
URL:https://www.apexinternational.com/event/acccsa-2025/
LOCATION:Barranquilla\, Colombia
ATTACH;FMTTYPE=image/png:https://www.apexinternational.com/wp-content/uploads/2024/10/Logo-CV-Col-25-full-color.66e866fd4b4ae6.16687454.png
END:VEVENT
BEGIN:VEVENT
DTSTART;VALUE=DATE:20250527
DTEND;VALUE=DATE:20250531
DTSTAMP:20260420T212451
CREATED:20240117T215735Z
LAST-MODIFIED:20241024T145501Z
UID:11345-1748304000-1748649599@www.apexinternational.com
SUMMARY:Print4All 2025
DESCRIPTION:
URL:https://www.apexinternational.com/event/print4all-2025/
LOCATION:Fiera Milano\, Italy
ATTACH;FMTTYPE=image/svg+xml:https://www.apexinternational.com/wp-content/uploads/2024/01/logoprint4all_2025.svg
END:VEVENT
BEGIN:VEVENT
DTSTART;VALUE=DATE:20250527
DTEND;VALUE=DATE:20250529
DTSTAMP:20260420T212451
CREATED:20241024T151339Z
LAST-MODIFIED:20241106T123901Z
UID:12641-1748304000-1748476799@www.apexinternational.com
SUMMARY:Flexo & Labels Experience
DESCRIPTION:
URL:https://www.apexinternational.com/event/flexo-label-summit-2025/
LOCATION:Rebouças Convention Center\, Av. Rebouças\, 600 - Pinheiros\, São Paulo\, SP\, 05402-000\, Brazil
ATTACH;FMTTYPE=image/png:https://www.apexinternational.com/wp-content/uploads/2024/10/logo.png
END:VEVENT
BEGIN:VEVENT
DTSTART;TZID=America/New_York:20250520T080000
DTEND;TZID=America/New_York:20250521T170000
DTSTAMP:20260420T212451
CREATED:20241024T145223Z
LAST-MODIFIED:20241024T145223Z
UID:12621-1747728000-1747846800@www.apexinternational.com
SUMMARY:Converters Expo 2025
DESCRIPTION:
URL:https://www.apexinternational.com/event/converters-expo-2025/
LOCATION:Lambeau Field Atrium\, Green Bay\, WI\, 1265 Lombardi Ave.\, Green Bay\, WI\, 54304\, United States
ATTACH;FMTTYPE=image/webp:https://www.apexinternational.com/wp-content/uploads/2024/10/CE-Header.webp
END:VEVENT
BEGIN:VEVENT
DTSTART;VALUE=DATE:20250508
DTEND;VALUE=DATE:20250511
DTSTAMP:20260420T212451
CREATED:20250130T142355Z
LAST-MODIFIED:20250130T142355Z
UID:12802-1746662400-1746921599@www.apexinternational.com
SUMMARY:LabelExpo Southeast Asia 2025
DESCRIPTION:
URL:https://www.apexinternational.com/event/labelexpo-southeast-asia-2025/
LOCATION:BITEC\, 88 Bangna-Trad Road (Km.1)\, Bang Na\, Bangkok\, 10260\, Thailand
ATTACH;FMTTYPE=image/png:https://www.apexinternational.com/wp-content/uploads/2025/01/lex-sea-2025_0.png
END:VEVENT
BEGIN:VEVENT
DTSTART;TZID=America/New_York:20250504T080000
DTEND;TZID=America/New_York:20250507T170000
DTSTAMP:20260420T212451
CREATED:20241014T170354Z
LAST-MODIFIED:20241023T170423Z
UID:12591-1746345600-1746637200@www.apexinternational.com
SUMMARY:FTA INFOFLEX 2025
DESCRIPTION:
URL:https://www.apexinternational.com/event/fta-infoflex-2025/
LOCATION:David L. Lawrence Convention Center\, 1000 Fort Duquesne Boulevard\, Pittsburgh\, PA\, 15222\, United States
ATTACH;FMTTYPE=image/png:https://www.apexinternational.com/wp-content/uploads/2024/10/2025_FORUM-INFOFLEX_TRANS_With_Tagline-e1728072669509-1.png
END:VEVENT
BEGIN:VEVENT
DTSTART;TZID=America/New_York:20250430T080000
DTEND;TZID=America/New_York:20250502T170000
DTSTAMP:20260420T212451
CREATED:20241014T164941Z
LAST-MODIFIED:20241014T164941Z
UID:12584-1746000000-1746205200@www.apexinternational.com
SUMMARY:AICC 2025 Spring Meeting
DESCRIPTION:
URL:https://www.apexinternational.com/event/aicc-2025-spring-meeting/
LOCATION:The Hyatt Regency Coconut Point Resort\, 5001 Coconut Rd\, Bonita Springs\, FL\, 34134\, United States
ATTACH;FMTTYPE=image/png:https://www.apexinternational.com/wp-content/uploads/2023/09/AICC-logo.png
END:VEVENT
BEGIN:VEVENT
DTSTART;VALUE=DATE:20250429
DTEND;VALUE=DATE:20250502
DTSTAMP:20260420T212451
CREATED:20250324T124936Z
LAST-MODIFIED:20250324T124936Z
UID:12940-1745884800-1746143999@www.apexinternational.com
SUMMARY:idea25
DESCRIPTION:
URL:https://www.apexinternational.com/event/idea25/
LOCATION:Miami Beach Convention Center\, Florida\, 1901 Convention Center Dr\, Miami Beach\, FL\, 33139\, United States
ATTACH;FMTTYPE=image/png:https://www.apexinternational.com/wp-content/uploads/2025/03/IDEA®-25-Logo-for-Media-RGB.png
END:VEVENT
BEGIN:VEVENT
DTSTART;TZID=America/New_York:20250408T080000
DTEND;TZID=America/New_York:20250410T170000
DTSTAMP:20260420T212451
CREATED:20241024T155304Z
LAST-MODIFIED:20250311T125658Z
UID:12682-1744099200-1744304400@www.apexinternational.com
SUMMARY:Tissue World Düsseldorf
DESCRIPTION:
URL:https://www.apexinternational.com/event/tissue-world-dusseldorf/
LOCATION:Messe Düsseldorf
ATTACH;FMTTYPE=image/webp:https://www.apexinternational.com/wp-content/uploads/2024/10/nam23tw-ma-twdusseldorflogo.webp
END:VEVENT
BEGIN:VEVENT
DTSTART;TZID=America/New_York:20250401T110000
DTEND;TZID=America/New_York:20250403T160000
DTSTAMP:20260420T212451
CREATED:20241014T165743Z
LAST-MODIFIED:20250210T161347Z
UID:12588-1743505200-1743696000@www.apexinternational.com
SUMMARY:Labelexpo Mexico 2025
DESCRIPTION:
URL:https://www.apexinternational.com/event/labelexpo-mexico-2025/
LOCATION:Expo Guadalajara\, Av. Mariano Otero #1499\, Col. Verde Valle\, Guadalajara\, Jalisco\, 44550\, Mexico
ATTACH;FMTTYPE=image/png:https://www.apexinternational.com/wp-content/uploads/2024/10/Labelexpo-Mexico_2025_logo_horiz.png
END:VEVENT
BEGIN:VEVENT
DTSTART;TZID=America/New_York:20250324T080000
DTEND;TZID=America/New_York:20250328T170000
DTSTAMP:20260420T212451
CREATED:20241024T150910Z
LAST-MODIFIED:20241024T150910Z
UID:12635-1742803200-1743181200@www.apexinternational.com
SUMMARY:Feira Plástico Brasil 2025
DESCRIPTION:
URL:https://www.apexinternational.com/event/feira-plastico-brasil-2025/
LOCATION:Sao Paulo Expo
ATTACH;FMTTYPE=image/svg+xml:https://www.apexinternational.com/wp-content/uploads/2024/10/design-sem-nome-7.svg
END:VEVENT
BEGIN:VEVENT
DTSTART;TZID=America/New_York:20250305T080000
DTEND;TZID=America/New_York:20250306T170000
DTSTAMP:20260420T212451
CREATED:20241014T163436Z
LAST-MODIFIED:20241023T160652Z
UID:12577-1741161600-1741280400@www.apexinternational.com
SUMMARY:Women of Flexo Conference
DESCRIPTION:
URL:https://www.apexinternational.com/event/women-of-flexo-conference/
LOCATION:Bobst Competence Center\, 2715 Ronald Reagan Blvd\, Ste 300\, Cumming\, GA\, 30041\, United States
ATTACH;FMTTYPE=image/png:https://www.apexinternational.com/wp-content/uploads/2024/03/wofftav2.png
END:VEVENT
BEGIN:VEVENT
DTSTART;VALUE=DATE:20250212
DTEND;VALUE=DATE:20250214
DTSTAMP:20260420T212451
CREATED:20250120T153546Z
LAST-MODIFIED:20250120T153546Z
UID:12783-1739318400-1739491199@www.apexinternational.com
SUMMARY:Tissue Summit Brasil 2025
DESCRIPTION:
URL:https://www.apexinternational.com/event/tissue-summit-brasil-2025/
LOCATION:Hotel Tivoli Mofarrej\, São Paulo\, SP\, Brazil
ATTACH;FMTTYPE=image/png:https://www.apexinternational.com/wp-content/uploads/2025/01/TS-2025-3.png
END:VEVENT
BEGIN:VEVENT
DTSTART;TZID=America/New_York:20250201T080000
DTEND;TZID=America/New_York:20250205T170000
DTSTAMP:20260420T212451
CREATED:20241024T154126Z
LAST-MODIFIED:20241024T154126Z
UID:12676-1738396800-1738774800@www.apexinternational.com
SUMMARY:PRINTPACK INDIA
DESCRIPTION:
URL:https://www.apexinternational.com/event/printpack-india/
LOCATION:India Expo Centre\, Plot No. 25\, 27\,28\,29\, Knowledge Park II\, Greater Noida\, Uttar Pradesh\, 201306\, India
ATTACH;FMTTYPE=image/jpeg:https://www.apexinternational.com/wp-content/uploads/2024/10/banner_20.jpg
END:VEVENT
BEGIN:VEVENT
DTSTART;VALUE=DATE:20241114
DTEND;VALUE=DATE:20241118
DTSTAMP:20260420T212451
CREATED:20240118T141206Z
LAST-MODIFIED:20240118T141250Z
UID:11394-1731542400-1731887999@www.apexinternational.com
SUMMARY:LabelExpo India
DESCRIPTION:
URL:https://www.apexinternational.com/event/11394/
LOCATION:India Expo Centre\, Plot No. 25\, 27\,28\,29\, Knowledge Park II\, Greater Noida\, Uttar Pradesh\, 201306\, India
ATTACH;FMTTYPE=image/jpeg:https://www.apexinternational.com/wp-content/uploads/2024/01/Labelexpo_india_2024_logo_horizontal.jpg
END:VEVENT
BEGIN:VEVENT
DTSTART;VALUE=DATE:20241023
DTEND;VALUE=DATE:20241026
DTSTAMP:20260420T212451
CREATED:20240118T143932Z
LAST-MODIFIED:20240118T143932Z
UID:11419-1729641600-1729900799@www.apexinternational.com
SUMMARY:Label Forum Japan 2024
DESCRIPTION:
URL:https://www.apexinternational.com/event/label-forum-japan-2024/
LOCATION:West Hall 3 at Tokyo Big Sight\, 3-11-1 Ariake\, Koto-ku\, Tokyo\, Japan
ATTACH;FMTTYPE=image/png:https://www.apexinternational.com/wp-content/uploads/2024/01/lfj.png
END:VEVENT
BEGIN:VEVENT
DTSTART;VALUE=DATE:20241022
DTEND;VALUE=DATE:20241026
DTSTAMP:20260420T212451
CREATED:20240118T133640Z
LAST-MODIFIED:20240118T134100Z
UID:11358-1729555200-1729900799@www.apexinternational.com
SUMMARY:ScanPack
DESCRIPTION:
URL:https://www.apexinternational.com/event/scanpack-2/
LOCATION:Swedish Exhibition & Congress Centre\, Massans gata 24\, 412 51\, Gothenburg\, Sweden
ATTACH;FMTTYPE=image/png:https://www.apexinternational.com/wp-content/uploads/2024/01/ScanPack3.png
END:VEVENT
BEGIN:VEVENT
DTSTART;VALUE=DATE:20240925
DTEND;VALUE=DATE:20240928
DTSTAMP:20260420T212451
CREATED:20240118T140436Z
LAST-MODIFIED:20240118T140810Z
UID:11389-1727222400-1727481599@www.apexinternational.com
SUMMARY:IndiaCorr Expo
DESCRIPTION:
URL:https://www.apexinternational.com/event/indiacorr-expo-2/
LOCATION:Bombay Exhibition Center\, Off Western Express Highway\, Goregaon East\, Mumbai\, Maharashtra\, 400063\, India
ATTACH;FMTTYPE=image/png:https://www.apexinternational.com/wp-content/uploads/2024/01/IndiaCorr-logo.png
END:VEVENT
BEGIN:VEVENT
DTSTART;VALUE=DATE:20240922
DTEND;VALUE=DATE:20240927
DTSTAMP:20260420T212451
CREATED:20231214T140720Z
LAST-MODIFIED:20231214T140720Z
UID:10759-1726963200-1727395199@www.apexinternational.com
SUMMARY:2024 R2R USA
DESCRIPTION:
URL:https://www.apexinternational.com/event/2024-r2r-usa/
LOCATION:Charlotte\, NC
ATTACH;FMTTYPE=image/png:https://www.apexinternational.com/wp-content/uploads/2023/12/R2R-logo.png
END:VEVENT
BEGIN:VEVENT
DTSTART;VALUE=DATE:20240918
DTEND;VALUE=DATE:20240922
DTSTAMP:20260420T212451
CREATED:20240118T141858Z
LAST-MODIFIED:20240118T142157Z
UID:11400-1726617600-1726963199@www.apexinternational.com
SUMMARY:VietnamPrintPack 2024
DESCRIPTION:
URL:https://www.apexinternational.com/event/vietnamprintpack-2024/
LOCATION:Saigon Exhibition & Conference Center\, Ho Chi Minh City\, Viet Nam
ATTACH;FMTTYPE=image/png:https://www.apexinternational.com/wp-content/uploads/2024/01/v-pp.png
END:VEVENT
BEGIN:VEVENT
DTSTART;VALUE=DATE:20240910
DTEND;VALUE=DATE:20240913
DTSTAMP:20260420T212451
CREATED:20231026T193010Z
LAST-MODIFIED:20231030T132208Z
UID:10604-1725926400-1726185599@www.apexinternational.com
SUMMARY:LabelExpo Americas
DESCRIPTION:
URL:https://www.apexinternational.com/event/labelexpo-americas/
LOCATION:Donald E. Stephens Convention Center\, 5555 N River Rd\, Rosemont\, IL\, 60018\, United States
ATTACH;FMTTYPE=image/png:https://www.apexinternational.com/wp-content/uploads/2023/10/logo-2024_0.png
END:VEVENT
BEGIN:VEVENT
DTSTART;VALUE=DATE:20240908
DTEND;VALUE=DATE:20240913
DTSTAMP:20260420T212451
CREATED:20231026T192857Z
LAST-MODIFIED:20231115T150829Z
UID:10602-1725753600-1726185599@www.apexinternational.com
SUMMARY:SuperCorr 2024
DESCRIPTION:
URL:https://www.apexinternational.com/event/supercorr-2024/
LOCATION:Orange County Convention Center\, 9800 International Dr\, Orlando\, FL\, 32819\, United States
ATTACH;FMTTYPE=image/png:https://www.apexinternational.com/wp-content/uploads/2023/10/supercorr-1476x1536-smaller.png
END:VEVENT
BEGIN:VEVENT
DTSTART;VALUE=DATE:20240904
DTEND;VALUE=DATE:20240908
DTSTAMP:20260420T212451
CREATED:20240118T143052Z
LAST-MODIFIED:20240118T143206Z
UID:11409-1725408000-1725753599@www.apexinternational.com
SUMMARY:INDOPLAS\, INDOPACK and INDOPRINT 2024
DESCRIPTION:
URL:https://www.apexinternational.com/event/indoplas-indopack-and-indoprint-jakarta-2024/
LOCATION:Jakarta International Expo\, Special Capital Region of Jakarta\, Indonesia
ATTACH;FMTTYPE=image/png:https://www.apexinternational.com/wp-content/uploads/2024/01/indoplas.png
END:VEVENT
END:VCALENDAR